BEGIN:VCALENDAR
VERSION:2.0
PRODID:-//Willowdale Group of Artists - ECPv6.15.20//NONSGML v1.0//EN
CALSCALE:GREGORIAN
METHOD:PUBLISH
X-ORIGINAL-URL:https://www.willowdaleartists.com
X-WR-CALDESC:Events for Willowdale Group of Artists
REFRESH-INTERVAL;VALUE=DURATION:PT1H
X-Robots-Tag:noindex
X-PUBLISHED-TTL:PT1H
BEGIN:VTIMEZONE
TZID:America/Toronto
BEGIN:DAYLIGHT
TZOFFSETFROM:-0500
TZOFFSETTO:-0400
TZNAME:EDT
DTSTART:20240310T070000
END:DAYLIGHT
BEGIN:STANDARD
TZOFFSETFROM:-0400
TZOFFSETTO:-0500
TZNAME:EST
DTSTART:20241103T060000
END:STANDARD
BEGIN:DAYLIGHT
TZOFFSETFROM:-0500
TZOFFSETTO:-0400
TZNAME:EDT
DTSTART:20250309T070000
END:DAYLIGHT
BEGIN:STANDARD
TZOFFSETFROM:-0400
TZOFFSETTO:-0500
TZNAME:EST
DTSTART:20251102T060000
END:STANDARD
BEGIN:DAYLIGHT
TZOFFSETFROM:-0500
TZOFFSETTO:-0400
TZNAME:EDT
DTSTART:20260308T070000
END:DAYLIGHT
BEGIN:STANDARD
TZOFFSETFROM:-0400
TZOFFSETTO:-0500
TZNAME:EST
DTSTART:20261101T060000
END:STANDARD
END:VTIMEZONE
BEGIN:VEVENT
DTSTART;TZID=America/Toronto:20250204T183000
DTEND;TZID=America/Toronto:20250204T203000
DTSTAMP:20260421T223500
CREATED:20240625T215928Z
LAST-MODIFIED:20240913T183716Z
UID:5170-1738693800-1738701000@www.willowdaleartists.com
SUMMARY:Neurographic Art- via Zoom
DESCRIPTION:Neurographic art is a meditative and fun style of artwork that will have you relaxing and playing with your materials. Join Dianne Hunter as she leads us through this interesting new approach – part art-part psychology. \n\n\n\nMaterials you will need: Watercolour or another paper that can take water; waterproof black marker or pen; some type of colour: i.e. watercolour\, markers\, inktense blocks\, coloured pencils; circular item;i.e. penny\, bottle top\, etc. \n\n\n\nWe will start signing onto Zoom just after 6:30pm to greet and chat with each other; . We will start our painting at 7 to 8 pm and then we will show and talk. Offering each other advice and support.
URL:https://www.willowdaleartists.com/event/paint-night-via-zoom/
LOCATION:Zoom meeting
ATTACH;FMTTYPE=image/jpeg:https://www.willowdaleartists.com/wp-content/uploads/dianes-neuro-scaled-e1726252729880.jpg
END:VEVENT
BEGIN:VEVENT
DTSTART;TZID=America/Toronto:20250211T183000
DTEND;TZID=America/Toronto:20250211T203000
DTSTAMP:20260421T223500
CREATED:20240625T225633Z
LAST-MODIFIED:20240903T201340Z
UID:5172-1739298600-1739305800@www.willowdaleartists.com
SUMMARY:PORTRAIT NIGHT VIA ZOOM
DESCRIPTION:We will start signing in after 6:30pm to meet & greet each other.  We will start portraiture drawing at 7pm.  At 8:15pm we will share our sketches.
URL:https://www.willowdaleartists.com/event/portrait-night-via-zoom-2/
ATTACH;FMTTYPE=image/jpeg:https://www.willowdaleartists.com/wp-content/uploads/port1-scaled-e1740851280988.jpg
END:VEVENT
BEGIN:VEVENT
DTSTART;TZID=America/Toronto:20250218T183000
DTEND;TZID=America/Toronto:20250218T203000
DTSTAMP:20260421T223500
CREATED:20240625T194002Z
LAST-MODIFIED:20240902T165645Z
UID:5164-1739903400-1739910600@www.willowdaleartists.com
SUMMARY:ART DEMO -Andrew Sookrah
DESCRIPTION:Noted Artist Andrew Sookrah will paint a cityscape in oil. \n\n\n\nStart signing on after 6:30 pm and demonstration will begin at7:00 pm..
URL:https://www.willowdaleartists.com/event/art-demo-via-zoom/
LOCATION:Zoom meeting
END:VEVENT
BEGIN:VEVENT
DTSTART;TZID=America/Toronto:20250225T180000
DTEND;TZID=America/Toronto:20250225T203000
DTSTAMP:20260421T223500
CREATED:20240625T230919Z
LAST-MODIFIED:20240829T151254Z
UID:5176-1740506400-1740515400@www.willowdaleartists.com
SUMMARY:Life Drawing  in person at NYSC
DESCRIPTION:Arrive at 6pm to assist in set-up. We will start drawing at 6:15pm \n\n\n\nBring a portable light weight easel with gator board & clip & lots of newsprint paper/pad & drawing tools
URL:https://www.willowdaleartists.com/event/life-drawing-night/
LOCATION:North York Seniors Centre\, 21 Hendon Ave\, Toronto\, Ontario\, M2M 4G8\, Canada
ATTACH;FMTTYPE=image/jpeg:https://www.willowdaleartists.com/wp-content/uploads/lifedrawing5.jpg
END:VEVENT
END:VCALENDAR