BEGIN:VCALENDAR
VERSION:2.0
PRODID:-//Willowdale Group of Artists - ECPv6.15.20//NONSGML v1.0//EN
CALSCALE:GREGORIAN
METHOD:PUBLISH
X-ORIGINAL-URL:https://www.willowdaleartists.com
X-WR-CALDESC:Events for Willowdale Group of Artists
REFRESH-INTERVAL;VALUE=DURATION:PT1H
X-Robots-Tag:noindex
X-PUBLISHED-TTL:PT1H
BEGIN:VTIMEZONE
TZID:America/Toronto
BEGIN:DAYLIGHT
TZOFFSETFROM:-0500
TZOFFSETTO:-0400
TZNAME:EDT
DTSTART:20240310T070000
END:DAYLIGHT
BEGIN:STANDARD
TZOFFSETFROM:-0400
TZOFFSETTO:-0500
TZNAME:EST
DTSTART:20241103T060000
END:STANDARD
BEGIN:DAYLIGHT
TZOFFSETFROM:-0500
TZOFFSETTO:-0400
TZNAME:EDT
DTSTART:20250309T070000
END:DAYLIGHT
BEGIN:STANDARD
TZOFFSETFROM:-0400
TZOFFSETTO:-0500
TZNAME:EST
DTSTART:20251102T060000
END:STANDARD
BEGIN:DAYLIGHT
TZOFFSETFROM:-0500
TZOFFSETTO:-0400
TZNAME:EDT
DTSTART:20260308T070000
END:DAYLIGHT
BEGIN:STANDARD
TZOFFSETFROM:-0400
TZOFFSETTO:-0500
TZNAME:EST
DTSTART:20261101T060000
END:STANDARD
END:VTIMEZONE
BEGIN:VEVENT
DTSTART;TZID=America/Toronto:20250114T183000
DTEND;TZID=America/Toronto:20250114T203000
DTSTAMP:20260422T015844
CREATED:20240625T230521Z
LAST-MODIFIED:20240902T174949Z
UID:5174-1736879400-1736886600@www.willowdaleartists.com
SUMMARY:DEMO - VIA ZOOM- Margaret Ferraro
DESCRIPTION:You’re invited to the Pastel Party!    Many colours: many personalities. \n\n\n\nPastellist Margaret Ferraro is having a party\, and she’s inviting many colours. Come and watch and listen to Margaret as she explains her take on the wonder of colour\, and how to create vibrancy in your work\, at the dullest time of the year. \n\n\n\nYou’ll learn about choice of ground colours\, choosing a palette\, and layering colours to create the rich textures of pastel while watching her paint a pastel painting. \n\n\n\n \n\n\n\nWe will start signing in just after 6:30pm to meet and greet each other.  The demo will start at 7pm  \n\n\n\nMore information to follow
URL:https://www.willowdaleartists.com/event/demo-via-zoom-2/
LOCATION:Zoom meeting
ATTACH;FMTTYPE=image/jpeg:https://www.willowdaleartists.com/wp-content/uploads/margaretf-e1726253142783.jpg
END:VEVENT
BEGIN:VEVENT
DTSTART;TZID=America/Toronto:20250121T183000
DTEND;TZID=America/Toronto:20250121T203000
DTSTAMP:20260422T015844
CREATED:20240625T214714Z
LAST-MODIFIED:20240903T201005Z
UID:5166-1737484200-1737491400@www.willowdaleartists.com
SUMMARY:PORTRAIT DRAWING -via Zoom
DESCRIPTION:Sign on after 6:30pm to meet and chat\, and at 7pm we will start sketch/draw/painting each other. \n\n\n\nWe will take turns drawing each other for a timed period.  Shortly after 8:15\, we will take time to view each other’s work
URL:https://www.willowdaleartists.com/event/portrait-drawing-via-zoom-3/
ATTACH;FMTTYPE=image/jpeg:https://www.willowdaleartists.com/wp-content/uploads/port2-scaled-e1726253091561.jpg
END:VEVENT
BEGIN:VEVENT
DTSTART;TZID=America/Toronto:20250128T180000
DTEND;TZID=America/Toronto:20250128T203000
DTSTAMP:20260422T015844
CREATED:20240625T215203Z
LAST-MODIFIED:20240829T151051Z
UID:5168-1738087200-1738096200@www.willowdaleartists.com
SUMMARY:Life Drawing  - In Person at NYSC
DESCRIPTION:Arrive at 6pm to assist in set-up and we will begin drawing at 6:15pm \n\n\n\n Bring a lightweight portable easel & gator board with clip\, large newsprint pad & a variety of drawing tools
URL:https://www.willowdaleartists.com/event/life-drawing-in-person-6/
LOCATION:North York Seniors Centre\, 21 Hendon Ave\, Toronto\, Ontario\, M2M 4G8\, Canada
ATTACH;FMTTYPE=image/jpeg:https://www.willowdaleartists.com/wp-content/uploads/lifedrawingcharcoal-1.jpg
END:VEVENT
END:VCALENDAR