BEGIN:VCALENDAR
VERSION:2.0
PRODID:-//Willowdale Group of Artists - ECPv6.15.20//NONSGML v1.0//EN
CALSCALE:GREGORIAN
METHOD:PUBLISH
X-WR-CALNAME:Willowdale Group of Artists
X-ORIGINAL-URL:https://www.willowdaleartists.com
X-WR-CALDESC:Events for Willowdale Group of Artists
REFRESH-INTERVAL;VALUE=DURATION:PT1H
X-Robots-Tag:noindex
X-PUBLISHED-TTL:PT1H
BEGIN:VTIMEZONE
TZID:America/Toronto
BEGIN:DAYLIGHT
TZOFFSETFROM:-0500
TZOFFSETTO:-0400
TZNAME:EDT
DTSTART:20220313T070000
END:DAYLIGHT
BEGIN:STANDARD
TZOFFSETFROM:-0400
TZOFFSETTO:-0500
TZNAME:EST
DTSTART:20221106T060000
END:STANDARD
BEGIN:DAYLIGHT
TZOFFSETFROM:-0500
TZOFFSETTO:-0400
TZNAME:EDT
DTSTART:20230312T070000
END:DAYLIGHT
BEGIN:STANDARD
TZOFFSETFROM:-0400
TZOFFSETTO:-0500
TZNAME:EST
DTSTART:20231105T060000
END:STANDARD
BEGIN:DAYLIGHT
TZOFFSETFROM:-0500
TZOFFSETTO:-0400
TZNAME:EDT
DTSTART:20240310T070000
END:DAYLIGHT
BEGIN:STANDARD
TZOFFSETFROM:-0400
TZOFFSETTO:-0500
TZNAME:EST
DTSTART:20241103T060000
END:STANDARD
BEGIN:DAYLIGHT
TZOFFSETFROM:-0500
TZOFFSETTO:-0400
TZNAME:EDT
DTSTART:20250309T070000
END:DAYLIGHT
BEGIN:STANDARD
TZOFFSETFROM:-0400
TZOFFSETTO:-0500
TZNAME:EST
DTSTART:20251102T060000
END:STANDARD
END:VTIMEZONE
BEGIN:VEVENT
DTSTART;TZID=America/Toronto:20241126T180000
DTEND;TZID=America/Toronto:20241126T203000
DTSTAMP:20260419T163424
CREATED:20240610T154552Z
LAST-MODIFIED:20240829T015948Z
UID:5156-1732644000-1732653000@www.willowdaleartists.com
SUMMARY:Life Drawing - In Person at NYSC
DESCRIPTION:Life Drawing is In-Person at the John McKenzie House.  Arrive at 6pm to assist in set-up and start drawing at 6:30pm. \n\n\n\nLocation:  North York Senior Center\, 21 Hendon Ave.
URL:https://www.willowdaleartists.com/event/life-drawing-in-person-5/
LOCATION:North York Seniors Centre\, 21 Hendon Ave\, Toronto\, Ontario\, M2M 4G8\, Canada
END:VEVENT
BEGIN:VEVENT
DTSTART;TZID=America/Toronto:20241119T180000
DTEND;TZID=America/Toronto:20241119T203000
DTSTAMP:20260419T163424
CREATED:20240610T152928Z
LAST-MODIFIED:20240902T175901Z
UID:5152-1732039200-1732048200@www.willowdaleartists.com
SUMMARY:ART PRESENTATION & SELF CRITIQUE- in person & zoom
DESCRIPTION:Arrive at John McKenzie to assist in set-up.  \n\n\n\n \n\n\n\nCritiquing art is no easy task\, especially when it’s your own. We’re either far too critical or far too generous. But it’s a valuable skill that allows you to identify areas for improvement and to give yourself a pat on the back when you do something well. Also\, you will often be your own best judge. So you may as well be a good one. \n\n\n\nYou will be provided in advance of the meeting with a list of key things to consider when evaluating your paintings. You will prepare a critique for two paintings and present them to the group. Following each one\, all participants will have the opportunity to add their constructive comments.  \n\n\n\n \n\n\n\n \n\n\n\n \n\n\n\nCoffee & tea with cookies
URL:https://www.willowdaleartists.com/event/art-presentation-self-critique-in-person-zoom/
LOCATION:at John McKenzie House – 34 Parkview Ave.\, Willowdale
ATTACH;FMTTYPE=image/jpeg:https://www.willowdaleartists.com/wp-content/uploads/self-critique.jpg
END:VEVENT
BEGIN:VEVENT
DTSTART;TZID=America/Toronto:20241112T183000
DTEND;TZID=America/Toronto:20241112T203000
DTSTAMP:20260419T163424
CREATED:20240610T155455Z
LAST-MODIFIED:20240829T015849Z
UID:5158-1731436200-1731443400@www.willowdaleartists.com
SUMMARY:Paint Night on Zoom
DESCRIPTION:The WGA will send out a Landscape Photo that can be downloaded & printed by WGA members.  The photo will be copy right free from a WGA member.  We will start signing on at 6pm and then begin painting the photo in whatever media you wish.  We will stop painting at 8pm and then share what we have accomplished.  Bring your artistic imagination\, precision & favourite drink to fun social Zoomy evening.
URL:https://www.willowdaleartists.com/event/paint-night-on-zoom/
LOCATION:Zoom meeting
END:VEVENT
BEGIN:VEVENT
DTSTART;TZID=America/Toronto:20241105T180000
DTEND;TZID=America/Toronto:20241105T203000
DTSTAMP:20260419T163424
CREATED:20240610T154121Z
LAST-MODIFIED:20240902T173705Z
UID:5154-1730829600-1730838600@www.willowdaleartists.com
SUMMARY:Demo Kat Honey - In person NYSC
DESCRIPTION:You may be familiar with collage\, but have you heard of decollage? Highly in demand artist\, Kat Honey\, will demonstrate her unique method of collaging and stripping away materials that she used to create her sell-out pieces at the Artist Project 2024.
URL:https://www.willowdaleartists.com/event/portrait-night-in-person-zoom-2/
LOCATION:North York Seniors Centre\, 21 Hendon Ave\, Toronto\, Ontario\, M2M 4G8\, Canada
ATTACH;FMTTYPE=image/webp:https://www.willowdaleartists.com/wp-content/uploads/kathoney-e1726253312306.webp
END:VEVENT
BEGIN:VEVENT
DTSTART;TZID=America/Toronto:20241029T183000
DTEND;TZID=America/Toronto:20241029T203000
DTSTAMP:20260419T163424
CREATED:20240902T173414Z
LAST-MODIFIED:20240903T200756Z
UID:5358-1730226600-1730233800@www.willowdaleartists.com
SUMMARY:Portrait Night
DESCRIPTION:We will take turns drawing/sketch/painting each other in a timed sessions. Use your choice of drawing materials. Charcoal\, conte\, graphite\, or pastels\, water color paint/pencils. and bring a variety of papers
URL:https://www.willowdaleartists.com/event/portrait-night/
LOCATION:Zoom meeting
ATTACH;FMTTYPE=image/jpeg:https://www.willowdaleartists.com/wp-content/uploads/portrait3.jpg
END:VEVENT
BEGIN:VEVENT
DTSTART;TZID=America/Toronto:20241022T180000
DTEND;TZID=America/Toronto:20241022T203000
DTSTAMP:20260419T163424
CREATED:20240610T152000Z
LAST-MODIFIED:20240802T004801Z
UID:5150-1729620000-1729629000@www.willowdaleartists.com
SUMMARY:LIFE DRAWING - In person at NYSC
DESCRIPTION:Arrive at 6pm to assist in set-up and we will start drawing at 6:15pm. \n\n\n\nBring a portable light weight easel\, gator board & clip to hold lots of newsprint pad/paper and drawing tools \n\n\n\nLocation:  North York Senior Center\, 21 Hendon Ave.
URL:https://www.willowdaleartists.com/event/life-drawing-in-person-4/
END:VEVENT
BEGIN:VEVENT
DTSTART;TZID=America/Toronto:20241015T180000
DTEND;TZID=America/Toronto:20241015T203000
DTSTAMP:20260419T163424
CREATED:20240610T151339Z
LAST-MODIFIED:20241014T020928Z
UID:5148-1729015200-1729024200@www.willowdaleartists.com
SUMMARY:Interactive Demo - Nora MacPhail - Charcoal portrait
DESCRIPTION:Arrive at 6 pm to set up and we will start at 6:30 pm. \n\n\n\n \n\n\n\nCharcoal is a beautiful medium which creates lovely silvery-greys. Willow charcoal will suit us perfectly as we draw together during our portrait workshop. A kneaded eraser will allow us to create light values\, giving our drawings structure. Working this way\, with dry mediums\, is almost like sculpting! The finer lines and subtle details can be found with charcoal pencils. Finally\, optional touches of soft pastel create sparkles of light\, making the highlights pop! \n\n\n\n \n\n\n\nPaint along with amazing artist and teacher Nora MacPhail. She will demonstrate and we will do our best to repeat. Don’t worry – she will go in slow\, small steps\, until ultimately we’ve each produced our own masterpiece. Nora will provide colour photos for everyone to work from and will bring a few soft pastels to add a hint of colour if you wish. \n\n\n\nMATERIALS LIST –  Drawing Board\, Charcoal Pencil\, Willow Charcoal – Medium sticks\, Kneaded Eraser\,  Newsprint Paper\,  Paper Towel \n\n\n\nBe sure to check the label on the box of your Willow Sticks\, the Small are too small and the Large are too big. I recommend Medium. \n\n\n\n \n\n\n\n \n\n\n\nLocation is the John McKenzie House\, 34 Parkview Avenue\, North York \n\n\n\nZoom will be available for out-of-town members \n\n\n\nMore Information to follow
URL:https://www.willowdaleartists.com/event/art-battle/
LOCATION:John McKenzie House\, 34 Parkview Ave.\, North York
ATTACH;FMTTYPE=image/jpeg:https://www.willowdaleartists.com/wp-content/uploads/noraportrait-e1726253438118.jpg
END:VEVENT
BEGIN:VEVENT
DTSTART;TZID=America/Toronto:20241008T183000
DTEND;TZID=America/Toronto:20241008T203000
DTSTAMP:20260419T163424
CREATED:20240828T212042Z
LAST-MODIFIED:20240919T211625Z
UID:5286-1728412200-1728419400@www.willowdaleartists.com
SUMMARY:Demo - Paint in the Style of John Singer Sargent - Robyn Asquini
DESCRIPTION:Join artist Robyn Asquini for a live painting demonstration and talk focused on the techniques of 19th-century master John Singer Sargent\, renowned for his exquisite portraiture and figurative work. During this session\, you’ll explore how to emulate Sargent’s dynamic brushwork\, mix luminous skin tones\, and effectively capture movement and light in your own portraits. Whether you’re aiming to refine your technique or gain deeper insight into Sargent’s artistry\, this event will provide valuable inspiration and practical guidance for artists at all levels. \n\n\n\nLocation: North York Seniors Centre
URL:https://www.willowdaleartists.com/event/demo-paint-in-the-style-of-john-singer-sargent-robyn-asquini/
LOCATION:North York Seniors Centre\, 21 Hendon Ave\, Toronto\, Ontario\, M2M 4G8\, Canada
ATTACH;FMTTYPE=image/jpeg:https://www.willowdaleartists.com/wp-content/uploads/sarget-slide-palmer-agnew-1-e1726253391509.jpg
END:VEVENT
BEGIN:VEVENT
DTSTART;TZID=America/Toronto:20241001T183000
DTEND;TZID=America/Toronto:20241001T203000
DTSTAMP:20260419T163424
CREATED:20240610T145307Z
LAST-MODIFIED:20240919T211211Z
UID:5142-1727807400-1727814600@www.willowdaleartists.com
SUMMARY:DEMO -Helen McCusker- Intro to the Procreate App-Zoom
DESCRIPTION:The Procreate App – currently for iPads and iPhones – is a user-friendly\, alternative to more costly and complicated graphics programs and is quickly becoming the program of choice for artists. Sketch\, paint and edit your own digital art\, or use the app to help compose\, select a colour scheme or identify the colours in your photo reference \, or edit your painting on the app without messing up your original art. Helen will begin with a short slideshow featuring samples of her work done with Procreate and discuss techniques and features. Similar programs exist even if you don’t have an Apple product. \n\n\n\n Helen has worked as an Art Instructor for over 25 years\, specializing in Drawing and Painting – particularly Portraits and Figurative work
URL:https://www.willowdaleartists.com/event/wga-demo/
LOCATION:Zoom meeting
ATTACH;FMTTYPE=image/jpeg:https://www.willowdaleartists.com/wp-content/uploads/Helen_McCusker_image-e1726253235829.jpg
END:VEVENT
BEGIN:VEVENT
DTSTART;TZID=America/Toronto:20240924T180000
DTEND;TZID=America/Toronto:20240924T203000
DTSTAMP:20260419T163424
CREATED:20240610T143945Z
LAST-MODIFIED:20240829T012332Z
UID:5140-1727200800-1727209800@www.willowdaleartists.com
SUMMARY:Life Drawing - In Person at NYSC
DESCRIPTION:Arrive at 6 pm to assist with set-up & to begin drawing at 6:15pm \n\n\n\nBring lightweight portable easel; gator board & clip; & Lots of newsprint paper/pad-or paper you like; conte/graphite/charcoal and eraser \n\n\n\nLocation: North York Senior Center\, 21 Hendon Ave.
URL:https://www.willowdaleartists.com/event/life-drawing-in-person/
LOCATION:North York Seniors Centre\, 21 Hendon Ave\, Toronto\, Ontario\, M2M 4G8\, Canada
ATTACH;FMTTYPE=image/jpeg:https://www.willowdaleartists.com/wp-content/uploads/lifedrawingcharcoal.jpg
END:VEVENT
BEGIN:VEVENT
DTSTART;TZID=America/Toronto:20240917T183000
DTEND;TZID=America/Toronto:20240917T203000
DTSTAMP:20260419T163424
CREATED:20240610T143515Z
LAST-MODIFIED:20240913T180930Z
UID:5138-1726597800-1726605000@www.willowdaleartists.com
SUMMARY:Portrait Night - Zoom
DESCRIPTION:This evening will be our first evening of Portrait Drawing this year. \n\n\n\nWe will take turns drawing/sketch/painting each other in a timed sessions. Use your choice of drawing materials. Charcoal\, conte\, graphite\, or pastels\, water color paint/pencils. and bring a variety of papers
URL:https://www.willowdaleartists.com/event/portrait-night-in-person-zoom/
LOCATION:Zoom meeting
ATTACH;FMTTYPE=image/jpeg:https://www.willowdaleartists.com/wp-content/uploads/www.willowdaleartists.com-AydaBahrami-Motlagh-YouAgain-50.jpg
END:VEVENT
BEGIN:VEVENT
DTSTART;TZID=America/Toronto:20240910T183000
DTEND;TZID=America/Toronto:20240910T203000
DTSTAMP:20260419T163424
CREATED:20240610T142946Z
LAST-MODIFIED:20240902T170921Z
UID:5136-1725993000-1726000200@www.willowdaleartists.com
SUMMARY:WGA OPEN HOUSE - In person
DESCRIPTION:Come join us for tons of fun and creativity\, prizes\, refreshments and all-round merry-making. Celebrated artist Kat Honey will lead us in various collage exercises to allow you to try your hand or learn some new tricks. No experience necessary. A fun time guaranteed.  Art loving friends and family welcome. \n\n\n\nPlease bring scissors\, glue stick\, craft knife\, and a cutting mat if you have one. We will supply collage materials and paper. \n\n\n\nPlease bring a sweet or savory item to share and eat \n\n\n\nLocated at the John McKenzie House\, 34 Parkview Ave.\, North York. \n\n\n\nFree Parking on street after 6:00 pm
URL:https://www.willowdaleartists.com/event/wga-open-house/
LOCATION:at John McKenzie House – 34 Parkview Ave.\, Willowdale
ATTACH;FMTTYPE=image/jpeg:https://www.willowdaleartists.com/wp-content/uploads/kathoney-2022.jpeg
END:VEVENT
BEGIN:VEVENT
DTSTART;TZID=America/Toronto:20240525T080000
DTEND;TZID=America/Toronto:20240526T170000
DTSTAMP:20260419T163424
CREATED:20240214T031555Z
LAST-MODIFIED:20240214T031801Z
UID:4525-1716624000-1716742800@www.willowdaleartists.com
SUMMARY:DOORS OPEN - TORONTO
DESCRIPTION:Doors Open is a 2 day event in all of Toronto; and the WGA has once again been asked to participate at the John McKenzie House.  We will be showcasing WGA  paintings in the Coach House. It will be a 12″ Square Painting show & all paintings will be a fixed price of $150.00. \n\n\n\nWe would like to have all paintings in any medium be unframed 12 inch squares.  They can be gallery canvas/wood/boards.  If a painting is framed it should be within the 12 inch square.  If the medium is watercolour\, mix media\, or pastel the work should be mounted on a 12 inch square mount of some sturdy substance. \n\n\n\nGlenda Wood will be setting up a Registration platform for this upcoming event.  We will let WGA members know more about drop off and pick-up and Volunteers for this 2 day event… we will need approximately 8 volunteers. \n\n\n\nMORE INFORMATION TO FOLLOW
URL:https://www.willowdaleartists.com/event/doors-open-toronto/
END:VEVENT
BEGIN:VEVENT
DTSTART;TZID=America/Toronto:20240430T183000
DTEND;TZID=America/Toronto:20240430T203000
DTSTAMP:20260419T163424
CREATED:20240104T223332Z
LAST-MODIFIED:20240104T223334Z
UID:4434-1714501800-1714509000@www.willowdaleartists.com
SUMMARY:AGM - Annual General Meeting
DESCRIPTION:The AGM will be an in-person meeting and take place at the John McKenzie House\, 34 Parkview Ave.\, North York. Free Parking on street after 6pm.   For members not able to attend in person\, we will set up zoom as well.
URL:https://www.willowdaleartists.com/event/agm-annual-general-meeting/
END:VEVENT
BEGIN:VEVENT
DTSTART;TZID=America/Toronto:20240423T183000
DTEND;TZID=America/Toronto:20240423T203000
DTSTAMP:20260419T163424
CREATED:20240125T035646Z
LAST-MODIFIED:20240125T035647Z
UID:4498-1713897000-1713904200@www.willowdaleartists.com
SUMMARY:CRITIQUE NIGHT at McKenzie House
DESCRIPTION:More details to follow
URL:https://www.willowdaleartists.com/event/critique-night-at-mckenzie-house/
END:VEVENT
BEGIN:VEVENT
DTSTART;TZID=America/Toronto:20231108T110000
DTEND;TZID=America/Toronto:20240430T000000
DTSTAMP:20260419T163424
CREATED:20231108T212141Z
LAST-MODIFIED:20240125T023805Z
UID:3953-1699441200-1714435200@www.willowdaleartists.com
SUMMARY:Sketch Book Play Time:                  Mon-Fri 11am-12pm
DESCRIPTION:The idea of the Sketch Book Play Time is to show up.  That’s first: Show up… \n\n\n\nWe do a 30 minute ‘sketch’\, in whatever medium of our choosing: pencil\, acrylic\, watercolour\, etc.   \n\n\n\nThe purpose of doing these quick exercises is to take us out of the right brain and make a shift that allows us to do something without time to self-criticize. The purpose of doing one subject for a month is that practice makes perfect. As well\, it allows us to do a subject from life\, from a picture\, or from copying other artists’ work\, and to learn something new and to be familiar with that one subject after a month of exploring the different ways of doing it. \n\n\n\nThis Play Time is for members only.  What a great incentive for you to join us! \n\n\n\nThe link is available on the Members’ only page or contact WGA@willowdaleartists.com
URL:https://www.willowdaleartists.com/event/sketch-book-play-time-mon-fri/
LOCATION:Zoom meeting
END:VEVENT
END:VCALENDAR