BEGIN:VCALENDAR
VERSION:2.0
PRODID:-//Willowdale Group of Artists - ECPv6.15.20//NONSGML v1.0//EN
CALSCALE:GREGORIAN
METHOD:PUBLISH
X-WR-CALNAME:Willowdale Group of Artists
X-ORIGINAL-URL:https://www.willowdaleartists.com
X-WR-CALDESC:Events for Willowdale Group of Artists
REFRESH-INTERVAL;VALUE=DURATION:PT1H
X-Robots-Tag:noindex
X-PUBLISHED-TTL:PT1H
BEGIN:VTIMEZONE
TZID:America/Toronto
BEGIN:DAYLIGHT
TZOFFSETFROM:-0500
TZOFFSETTO:-0400
TZNAME:EDT
DTSTART:20240310T070000
END:DAYLIGHT
BEGIN:STANDARD
TZOFFSETFROM:-0400
TZOFFSETTO:-0500
TZNAME:EST
DTSTART:20241103T060000
END:STANDARD
BEGIN:DAYLIGHT
TZOFFSETFROM:-0500
TZOFFSETTO:-0400
TZNAME:EDT
DTSTART:20250309T070000
END:DAYLIGHT
BEGIN:STANDARD
TZOFFSETFROM:-0400
TZOFFSETTO:-0500
TZNAME:EST
DTSTART:20251102T060000
END:STANDARD
BEGIN:DAYLIGHT
TZOFFSETFROM:-0500
TZOFFSETTO:-0400
TZNAME:EDT
DTSTART:20260308T070000
END:DAYLIGHT
BEGIN:STANDARD
TZOFFSETFROM:-0400
TZOFFSETTO:-0500
TZNAME:EST
DTSTART:20261101T060000
END:STANDARD
END:VTIMEZONE
BEGIN:VEVENT
DTSTART;TZID=America/Toronto:20250429T180000
DTEND;TZID=America/Toronto:20250429T203000
DTSTAMP:20260421T154010
CREATED:20240626T045424Z
LAST-MODIFIED:20240626T045426Z
UID:5224-1745949600-1745958600@www.willowdaleartists.com
SUMMARY:AGM - Annual General Meeting
DESCRIPTION:This meeting will be at the John McKenzie House\, 34 Parkview Ave.\,  North York in person and on zoom\,  Members who unable to attend may arrange for another WGA member to … their vote \n\n\n\nPlease arrive around 6pm to assist in set-up and to chat.  We will start the meeting at 6:30 pm/
URL:https://www.willowdaleartists.com/event/agm-annual-general-meeting-2/
END:VEVENT
END:VCALENDAR