BEGIN:VCALENDAR
VERSION:2.0
PRODID:-//Willowdale Group of Artists - ECPv6.15.20//NONSGML v1.0//EN
CALSCALE:GREGORIAN
METHOD:PUBLISH
X-ORIGINAL-URL:https://www.willowdaleartists.com
X-WR-CALDESC:Events for Willowdale Group of Artists
REFRESH-INTERVAL;VALUE=DURATION:PT1H
X-Robots-Tag:noindex
X-PUBLISHED-TTL:PT1H
BEGIN:VTIMEZONE
TZID:America/Toronto
BEGIN:DAYLIGHT
TZOFFSETFROM:-0500
TZOFFSETTO:-0400
TZNAME:EDT
DTSTART:20240310T070000
END:DAYLIGHT
BEGIN:STANDARD
TZOFFSETFROM:-0400
TZOFFSETTO:-0500
TZNAME:EST
DTSTART:20241103T060000
END:STANDARD
BEGIN:DAYLIGHT
TZOFFSETFROM:-0500
TZOFFSETTO:-0400
TZNAME:EDT
DTSTART:20250309T070000
END:DAYLIGHT
BEGIN:STANDARD
TZOFFSETFROM:-0400
TZOFFSETTO:-0500
TZNAME:EST
DTSTART:20251102T060000
END:STANDARD
BEGIN:DAYLIGHT
TZOFFSETFROM:-0500
TZOFFSETTO:-0400
TZNAME:EDT
DTSTART:20260308T070000
END:DAYLIGHT
BEGIN:STANDARD
TZOFFSETFROM:-0400
TZOFFSETTO:-0500
TZNAME:EST
DTSTART:20261101T060000
END:STANDARD
END:VTIMEZONE
BEGIN:VEVENT
DTSTART;TZID=America/Toronto:20250422T180000
DTEND;TZID=America/Toronto:20250422T203000
DTSTAMP:20260421T191807
CREATED:20240626T044833Z
LAST-MODIFIED:20240829T150752Z
UID:5222-1745344800-1745353800@www.willowdaleartists.com
SUMMARY:Life Drawing - In Person at NYSC
DESCRIPTION:Arrive at 6:00 pm to assist in set-up and start drawing at 6:15pm \n\n\n\nBring a portable lightweight easel gator board & clip\, lots of newsprint paper/pad and drawing tools.
URL:https://www.willowdaleartists.com/event/life-drawing-in-person-8/
LOCATION:North York Seniors Centre\, 21 Hendon Ave\, Toronto\, Ontario\, M2M 4G8\, Canada
ATTACH;FMTTYPE=image/jpeg:https://www.willowdaleartists.com/wp-content/uploads/lifedrawing3.jpg
END:VEVENT
END:VCALENDAR