BEGIN:VCALENDAR
VERSION:2.0
PRODID:-//Willowdale Group of Artists - ECPv6.15.20//NONSGML v1.0//EN
CALSCALE:GREGORIAN
METHOD:PUBLISH
X-WR-CALNAME:Willowdale Group of Artists
X-ORIGINAL-URL:https://www.willowdaleartists.com
X-WR-CALDESC:Events for Willowdale Group of Artists
REFRESH-INTERVAL;VALUE=DURATION:PT1H
X-Robots-Tag:noindex
X-PUBLISHED-TTL:PT1H
BEGIN:VTIMEZONE
TZID:America/Toronto
BEGIN:DAYLIGHT
TZOFFSETFROM:-0500
TZOFFSETTO:-0400
TZNAME:EDT
DTSTART:20240310T070000
END:DAYLIGHT
BEGIN:STANDARD
TZOFFSETFROM:-0400
TZOFFSETTO:-0500
TZNAME:EST
DTSTART:20241103T060000
END:STANDARD
BEGIN:DAYLIGHT
TZOFFSETFROM:-0500
TZOFFSETTO:-0400
TZNAME:EDT
DTSTART:20250309T070000
END:DAYLIGHT
BEGIN:STANDARD
TZOFFSETFROM:-0400
TZOFFSETTO:-0500
TZNAME:EST
DTSTART:20251102T060000
END:STANDARD
BEGIN:DAYLIGHT
TZOFFSETFROM:-0500
TZOFFSETTO:-0400
TZNAME:EDT
DTSTART:20260308T070000
END:DAYLIGHT
BEGIN:STANDARD
TZOFFSETFROM:-0400
TZOFFSETTO:-0500
TZNAME:EST
DTSTART:20261101T060000
END:STANDARD
END:VTIMEZONE
BEGIN:VEVENT
DTSTART;TZID=America/Toronto:20250318T190000
DTEND;TZID=America/Toronto:20250318T210000
DTSTAMP:20260421T222710
CREATED:20240626T042817Z
LAST-MODIFIED:20240919T215734Z
UID:5212-1742324400-1742331600@www.willowdaleartists.com
SUMMARY:Demo - Paint in the Style of Tom Thompson
DESCRIPTION:Painting With Zest and Colour in the Style of Tom Thompson \n\n\n\nArtist Janine Marson will do an acrylic  painting demo in the style of Tom Thompson\, a master colourist. Janine will demonstrate his painterly style and discuss how his productive en plein air “boards” helped to inspire and influence her own 2017 Project “Through Tom’s Eyes\, creating 100 original oil paintings on board. Through her painting demo she will address Thompson’s choice of colours\, gestural brushwork\, painting process\, and how he captured the essence of the scene.
URL:https://www.willowdaleartists.com/event/demo-via-zoom-3/
LOCATION:Zoom meeting
ATTACH;FMTTYPE=image/png:https://www.willowdaleartists.com/wp-content/uploads/www.willowdaleartists.com-Tom-Thompson-e1726783171336.png
END:VEVENT
END:VCALENDAR