BEGIN:VCALENDAR
VERSION:2.0
PRODID:-//Willowdale Group of Artists - ECPv6.15.20//NONSGML v1.0//EN
CALSCALE:GREGORIAN
METHOD:PUBLISH
X-ORIGINAL-URL:https://www.willowdaleartists.com
X-WR-CALDESC:Events for Willowdale Group of Artists
REFRESH-INTERVAL;VALUE=DURATION:PT1H
X-Robots-Tag:noindex
X-PUBLISHED-TTL:PT1H
BEGIN:VTIMEZONE
TZID:America/Toronto
BEGIN:DAYLIGHT
TZOFFSETFROM:-0500
TZOFFSETTO:-0400
TZNAME:EDT
DTSTART:20240310T070000
END:DAYLIGHT
BEGIN:STANDARD
TZOFFSETFROM:-0400
TZOFFSETTO:-0500
TZNAME:EST
DTSTART:20241103T060000
END:STANDARD
BEGIN:DAYLIGHT
TZOFFSETFROM:-0500
TZOFFSETTO:-0400
TZNAME:EDT
DTSTART:20250309T070000
END:DAYLIGHT
BEGIN:STANDARD
TZOFFSETFROM:-0400
TZOFFSETTO:-0500
TZNAME:EST
DTSTART:20251102T060000
END:STANDARD
BEGIN:DAYLIGHT
TZOFFSETFROM:-0500
TZOFFSETTO:-0400
TZNAME:EDT
DTSTART:20260308T070000
END:DAYLIGHT
BEGIN:STANDARD
TZOFFSETFROM:-0400
TZOFFSETTO:-0500
TZNAME:EST
DTSTART:20261101T060000
END:STANDARD
END:VTIMEZONE
BEGIN:VEVENT
DTSTART;TZID=America/Toronto:20250304T183000
DTEND;TZID=America/Toronto:20250304T203000
DTSTAMP:20260421T223208
CREATED:20240626T003952Z
LAST-MODIFIED:20250302T191105Z
UID:5188-1741113000-1741120200@www.willowdaleartists.com
SUMMARY:Nora McPhail - Watercolour FLORALS- In Person
DESCRIPTION:Join Nora MacPhail for a fun and informative watercolour demo and workshop and paint along. We’ll create a beautiful daisy garden full of colour. You’ll learn the important basics of watercolour as Nora takes you step-by-step through the painting process. There will be flower demonstrations as well as individual feedback. So\, set aside those winter shovels and paint spring flowers with Nora. Beginner Friendly.  \n\n\n\nMaterials \n\n\n\nBring the watercolour supplies you have and enjoy- watercolour paint and palette\, flat and round brush\, water container\, paper towel\, w/c paper (8″ by 10″ suggested). Nora will be using Hot-Pressed Watercolour Paper by Fluid\, but any professional watercolour paper will work.
URL:https://www.willowdaleartists.com/event/paint-night-via-zoom-2/
LOCATION:at John McKenzie House – 34 Parkview Ave.\, Willowdale
ATTACH;FMTTYPE=image/jpeg:https://www.willowdaleartists.com/wp-content/uploads/nora-flowers-e1740850336794.jpg
END:VEVENT
END:VCALENDAR