BEGIN:VCALENDAR
VERSION:2.0
PRODID:-//Willowdale Group of Artists - ECPv6.15.20//NONSGML v1.0//EN
CALSCALE:GREGORIAN
METHOD:PUBLISH
X-WR-CALNAME:Willowdale Group of Artists
X-ORIGINAL-URL:https://www.willowdaleartists.com
X-WR-CALDESC:Events for Willowdale Group of Artists
REFRESH-INTERVAL;VALUE=DURATION:PT1H
X-Robots-Tag:noindex
X-PUBLISHED-TTL:PT1H
BEGIN:VTIMEZONE
TZID:America/Toronto
BEGIN:DAYLIGHT
TZOFFSETFROM:-0500
TZOFFSETTO:-0400
TZNAME:EDT
DTSTART:20230312T070000
END:DAYLIGHT
BEGIN:STANDARD
TZOFFSETFROM:-0400
TZOFFSETTO:-0500
TZNAME:EST
DTSTART:20231105T060000
END:STANDARD
BEGIN:DAYLIGHT
TZOFFSETFROM:-0500
TZOFFSETTO:-0400
TZNAME:EDT
DTSTART:20240310T070000
END:DAYLIGHT
BEGIN:STANDARD
TZOFFSETFROM:-0400
TZOFFSETTO:-0500
TZNAME:EST
DTSTART:20241103T060000
END:STANDARD
BEGIN:DAYLIGHT
TZOFFSETFROM:-0500
TZOFFSETTO:-0400
TZNAME:EDT
DTSTART:20250309T070000
END:DAYLIGHT
BEGIN:STANDARD
TZOFFSETFROM:-0400
TZOFFSETTO:-0500
TZNAME:EST
DTSTART:20251102T060000
END:STANDARD
END:VTIMEZONE
BEGIN:VEVENT
DTSTART;TZID=America/Toronto:20241105T180000
DTEND;TZID=America/Toronto:20241105T203000
DTSTAMP:20260422T112144
CREATED:20240610T154121Z
LAST-MODIFIED:20240902T173705Z
UID:5154-1730829600-1730838600@www.willowdaleartists.com
SUMMARY:Demo Kat Honey - In person NYSC
DESCRIPTION:You may be familiar with collage\, but have you heard of decollage? Highly in demand artist\, Kat Honey\, will demonstrate her unique method of collaging and stripping away materials that she used to create her sell-out pieces at the Artist Project 2024.
URL:https://www.willowdaleartists.com/event/portrait-night-in-person-zoom-2/
LOCATION:North York Seniors Centre\, 21 Hendon Ave\, Toronto\, Ontario\, M2M 4G8\, Canada
ATTACH;FMTTYPE=image/webp:https://www.willowdaleartists.com/wp-content/uploads/kathoney-e1726253312306.webp
END:VEVENT
END:VCALENDAR