BEGIN:VCALENDAR
VERSION:2.0
PRODID:-//Willowdale Group of Artists - ECPv6.15.20//NONSGML v1.0//EN
CALSCALE:GREGORIAN
METHOD:PUBLISH
X-WR-CALNAME:Willowdale Group of Artists
X-ORIGINAL-URL:https://www.willowdaleartists.com
X-WR-CALDESC:Events for Willowdale Group of Artists
REFRESH-INTERVAL;VALUE=DURATION:PT1H
X-Robots-Tag:noindex
X-PUBLISHED-TTL:PT1H
BEGIN:VTIMEZONE
TZID:America/Toronto
BEGIN:DAYLIGHT
TZOFFSETFROM:-0500
TZOFFSETTO:-0400
TZNAME:EDT
DTSTART:20230312T070000
END:DAYLIGHT
BEGIN:STANDARD
TZOFFSETFROM:-0400
TZOFFSETTO:-0500
TZNAME:EST
DTSTART:20231105T060000
END:STANDARD
BEGIN:DAYLIGHT
TZOFFSETFROM:-0500
TZOFFSETTO:-0400
TZNAME:EDT
DTSTART:20240310T070000
END:DAYLIGHT
BEGIN:STANDARD
TZOFFSETFROM:-0400
TZOFFSETTO:-0500
TZNAME:EST
DTSTART:20241103T060000
END:STANDARD
BEGIN:DAYLIGHT
TZOFFSETFROM:-0500
TZOFFSETTO:-0400
TZNAME:EDT
DTSTART:20250309T070000
END:DAYLIGHT
BEGIN:STANDARD
TZOFFSETFROM:-0400
TZOFFSETTO:-0500
TZNAME:EST
DTSTART:20251102T060000
END:STANDARD
END:VTIMEZONE
BEGIN:VEVENT
DTSTART;TZID=America/Toronto:20240917T183000
DTEND;TZID=America/Toronto:20240917T203000
DTSTAMP:20260422T065650
CREATED:20240610T143515Z
LAST-MODIFIED:20240913T180930Z
UID:5138-1726597800-1726605000@www.willowdaleartists.com
SUMMARY:Portrait Night - Zoom
DESCRIPTION:This evening will be our first evening of Portrait Drawing this year. \n\n\n\nWe will take turns drawing/sketch/painting each other in a timed sessions. Use your choice of drawing materials. Charcoal\, conte\, graphite\, or pastels\, water color paint/pencils. and bring a variety of papers
URL:https://www.willowdaleartists.com/event/portrait-night-in-person-zoom/
LOCATION:Zoom meeting
ATTACH;FMTTYPE=image/jpeg:https://www.willowdaleartists.com/wp-content/uploads/www.willowdaleartists.com-AydaBahrami-Motlagh-YouAgain-50.jpg
END:VEVENT
END:VCALENDAR